BEGIN:VCALENDAR
VERSION:2.0
PRODID:-//Askøy Næringsråd - ECPv6.15.20//NONSGML v1.0//EN
CALSCALE:GREGORIAN
METHOD:PUBLISH
X-WR-CALNAME:Askøy Næringsråd
X-ORIGINAL-URL:https://www.askoynr.no
X-WR-CALDESC:Events for Askøy Næringsråd
REFRESH-INTERVAL;VALUE=DURATION:PT1H
X-Robots-Tag:noindex
X-PUBLISHED-TTL:PT1H
BEGIN:VTIMEZONE
TZID:Europe/Oslo
BEGIN:DAYLIGHT
TZOFFSETFROM:+0100
TZOFFSETTO:+0200
TZNAME:CEST
DTSTART:20250330T010000
END:DAYLIGHT
BEGIN:STANDARD
TZOFFSETFROM:+0200
TZOFFSETTO:+0100
TZNAME:CET
DTSTART:20251026T010000
END:STANDARD
BEGIN:DAYLIGHT
TZOFFSETFROM:+0100
TZOFFSETTO:+0200
TZNAME:CEST
DTSTART:20260329T010000
END:DAYLIGHT
BEGIN:STANDARD
TZOFFSETFROM:+0200
TZOFFSETTO:+0100
TZNAME:CET
DTSTART:20261025T010000
END:STANDARD
BEGIN:DAYLIGHT
TZOFFSETFROM:+0100
TZOFFSETTO:+0200
TZNAME:CEST
DTSTART:20270328T010000
END:DAYLIGHT
BEGIN:STANDARD
TZOFFSETFROM:+0200
TZOFFSETTO:+0100
TZNAME:CET
DTSTART:20271031T010000
END:STANDARD
END:VTIMEZONE
BEGIN:VEVENT
DTSTART;TZID=Europe/Oslo:20260506T080000
DTEND;TZID=Europe/Oslo:20260506T100000
DTSTAMP:20260423T134243
CREATED:20260210T111247Z
LAST-MODIFIED:20260421T090434Z
UID:3396-1778054400-1778061600@www.askoynr.no
SUMMARY:Frokostmingel
DESCRIPTION:Askøy Næringsråd Inviterer til frokost mingel 06.05  Storebotn 26 5309 Kleppestø \n\n\n\nVi samles til en spennende morgen med gode innlegg og mye mingel. \nKl 0800 – 0830  – Frokost og Mingel\nKl 0830 – 0850  –  Kleppestø 2.0 fra Asfalt til attraktiv sentrum\, Anders Elling P. Johansen\,assosiert partner  i CMS Kluge Advokatfirma AS – Bergen.\nKl 0850 – 0910  – En spennende reise og utvikling i Byggenæringen\, Erlend Sandøy i Sandøy Byggeservice\nKl 0910 – 0930  – Kaffe og Mingel\nKl 0930 – 0950 – Lokalavisens viktike rolle i næringslivet. Redaktør Yngve Johnsen i Askøy 24 forteller om lokalavisens samfunnsoppdrag knyttet til næringslivet.\nKl 0950 – 10.00 Sommerfest på Biologen\, Askøykonferansen og Årsfest for ANR  – ved Næringslos Frode Hetlevik \n\n\n\n\nhttps://forms.office.com/Pages/ResponsePage.aspx?id=y9HE1DVNa0695tlsIidvQwIvfvQBrIJLsfMjggRHf4JUNUs2S1FWNFZUOEhHRjlZNkVLTFdSVzJTUy4u
URL:https://www.askoynr.no/kalendar/frokostmingel-6/
END:VEVENT
BEGIN:VEVENT
DTSTART;VALUE=DATE:20260511
DTEND;VALUE=DATE:20260512
DTSTAMP:20260423T134243
CREATED:20260409T140011Z
LAST-MODIFIED:20260409T140011Z
UID:3585-1778457600-1778543999@www.askoynr.no
SUMMARY:Styremøte
DESCRIPTION:Mer info. kommer
URL:https://www.askoynr.no/kalendar/styremote-23/
END:VEVENT
BEGIN:VEVENT
DTSTART;TZID=Europe/Oslo:20260603T080000
DTEND;TZID=Europe/Oslo:20260603T110000
DTSTAMP:20260423T134243
CREATED:20260316T160241Z
LAST-MODIFIED:20260316T160241Z
UID:3526-1780473600-1780484400@www.askoynr.no
SUMMARY:Frokostmingel
DESCRIPTION:Program kommer!
URL:https://www.askoynr.no/kalendar/frokostmingel-5/
END:VEVENT
BEGIN:VEVENT
DTSTART;TZID=Europe/Oslo:20260612T180000
DTEND;TZID=Europe/Oslo:20260613T003000
DTSTAMP:20260423T134243
CREATED:20260210T111332Z
LAST-MODIFIED:20260316T160321Z
UID:3398-1781287200-1781310600@www.askoynr.no
SUMMARY:Sommerfest - Biologen Herdla
DESCRIPTION:Tradisjonen tro arrangerer vi sommerfest på Biologen Herdla. Det er begrenset med plasser så her er det førstemann til mølla: Stand up ved Eirik Krokås – God mat og god drikke Pris kr 1295\,- eks mva pr. pers inkl. velkomstdrink. Maxi taxi fra Kleppestø parkering kl 17.00 – Stopp Juvik – stopp Kiwi Storebotn – max 2 personer pr. bedrift. Retur fra Biologen Herdla kl. 00.30 – Stopper når du vil av på strekning mellom Herdla og Kleppestø parkering. \n  \nMeld deg på – begrensede plasser: \nhttps://forms.office.com/Pages/ResponsePage.aspx?id=y9HE1DVNa0695tlsIidvQwIvfvQBrIJLsfMjggRHf4JURTJDRUgxUURWNjA4SVdVNzgxSVpWMTFWVi4u
URL:https://www.askoynr.no/kalendar/sommerfest/
END:VEVENT
BEGIN:VEVENT
DTSTART;VALUE=DATE:20260615
DTEND;VALUE=DATE:20260616
DTSTAMP:20260423T134243
CREATED:20260409T140044Z
LAST-MODIFIED:20260409T140044Z
UID:3587-1781481600-1781567999@www.askoynr.no
SUMMARY:Styremøte
DESCRIPTION:Mer info. kommer
URL:https://www.askoynr.no/kalendar/styremote-24/
END:VEVENT
BEGIN:VEVENT
DTSTART;VALUE=DATE:20260817
DTEND;VALUE=DATE:20260818
DTSTAMP:20260423T134243
CREATED:20260409T140119Z
LAST-MODIFIED:20260409T140119Z
UID:3589-1786924800-1787011199@www.askoynr.no
SUMMARY:Styremøte
DESCRIPTION:Mer info. kommer.
URL:https://www.askoynr.no/kalendar/styremote-25/
END:VEVENT
BEGIN:VEVENT
DTSTART;TZID=Europe/Oslo:20261127T083000
DTEND;TZID=Europe/Oslo:20261127T160000
DTSTAMP:20260423T134243
CREATED:20251219T130333Z
LAST-MODIFIED:20260408T095605Z
UID:3238-1795768200-1795795200@www.askoynr.no
SUMMARY:Askøykonferansen 2026 – Trender i tiden
DESCRIPTION:Formiddag (kl. 09:30–12:00): Tillit – et samfunnsproblem \nTillit er ikke bare en verdi i arbeidslivet – den er blitt et samfunnsproblem. \nNår tilliten svekkes\, blir samarbeid vanskeligere\, konfliktene større og endring mer krevende. \nVi ser på hvorfor tillit utfordres i vår tid – blant annet gjennom sosiale medier\, informasjonskaos og økt polarisering. \nHva betyr det når tilliten til myndighetspersoner\, institusjoner og beslutningstakere settes på prøve? \nFormiddagen gir innsikt\, refleksjon og konkrete perspektiver på hvordan tillit kan bygges – og gjenreises. \n  \nEttermiddag (kl. 13:00–16:00): Trender/møter – nettverk\, personlighet og nye måter å nå dine kunder på. \nEttermiddagen tar for seg trendene og møtene som preger arbeidslivet og markedet: endringstakt\, forventninger og nye former for synlighet. \nVi ser på personlighetstyper basert på farger (DISC): rød\, gul\, grønn og blå – og hvordan vi kommuniserer bedre i praksis. \nDet blir fokus på nettverksbygging og relasjoner – hvordan vi skaper nye samarbeid og muligheter lokalt. \nVi løfter også fram nye mòter/trender\, med nye måter å nå dine kunder på gjennom sosiale medier\, innhold og digitale flater. \nTil slutt: Hva mener ungdommene om framtiden på Askøy – og hva skal til for at de vil satse her? \nMeld deg til Askøykonferansen 2026 her: https://forms.office.com/Pages/ResponsePage.aspx?id=y9HE1DVNa0695tlsIidvQwIvfvQBrIJLsfMjggRHf4JUMFU2UEoyTlZMRElaTUlXOEpXRVFPVzNYTC4u \n 
URL:https://www.askoynr.no/kalendar/askoykonferansen-2026-trender-i-tiden/
END:VEVENT
BEGIN:VEVENT
DTSTART;TZID=Europe/Oslo:20261127T190000
DTEND;TZID=Europe/Oslo:20261128T010000
DTSTAMP:20260423T134243
CREATED:20260205T110233Z
LAST-MODIFIED:20260205T110233Z
UID:3365-1795806000-1795827600@www.askoynr.no
SUMMARY:Årsfest/Julebord for ANR sine medlemmer
DESCRIPTION:ÅRSFEST / JULEBORD – Hetlevik Kulturfabrikk 27. November\, kl 19.00 til 01.00 \n\n\n\nMeld dere på her:\nhttps://forms.office.com/Pages/ResponsePage.aspx?id=y9HE1DVNa0695tlsIidvQwIvfvQBrIJLsfMjggRHf4JUOVFXRVRTR0lCQ0dSVjRTQzQ1NDRQNTc4Ny4u
URL:https://www.askoynr.no/kalendar/arsfest-julebord-for-anr-sine-medlemmer/
END:VEVENT
END:VCALENDAR