BEGIN:VCALENDAR
VERSION:2.0
PRODID:-//Askøy Næringsråd - ECPv6.15.20//NONSGML v1.0//EN
CALSCALE:GREGORIAN
METHOD:PUBLISH
X-WR-CALNAME:Askøy Næringsråd
X-ORIGINAL-URL:https://www.askoynr.no
X-WR-CALDESC:Events for Askøy Næringsråd
REFRESH-INTERVAL;VALUE=DURATION:PT1H
X-Robots-Tag:noindex
X-PUBLISHED-TTL:PT1H
BEGIN:VTIMEZONE
TZID:Europe/Oslo
BEGIN:DAYLIGHT
TZOFFSETFROM:+0100
TZOFFSETTO:+0200
TZNAME:CEST
DTSTART:20200329T010000
END:DAYLIGHT
BEGIN:STANDARD
TZOFFSETFROM:+0200
TZOFFSETTO:+0100
TZNAME:CET
DTSTART:20201025T010000
END:STANDARD
BEGIN:DAYLIGHT
TZOFFSETFROM:+0100
TZOFFSETTO:+0200
TZNAME:CEST
DTSTART:20210328T010000
END:DAYLIGHT
BEGIN:STANDARD
TZOFFSETFROM:+0200
TZOFFSETTO:+0100
TZNAME:CET
DTSTART:20211031T010000
END:STANDARD
BEGIN:DAYLIGHT
TZOFFSETFROM:+0100
TZOFFSETTO:+0200
TZNAME:CEST
DTSTART:20220327T010000
END:DAYLIGHT
BEGIN:STANDARD
TZOFFSETFROM:+0200
TZOFFSETTO:+0100
TZNAME:CET
DTSTART:20221030T010000
END:STANDARD
BEGIN:DAYLIGHT
TZOFFSETFROM:+0100
TZOFFSETTO:+0200
TZNAME:CEST
DTSTART:20230326T010000
END:DAYLIGHT
BEGIN:STANDARD
TZOFFSETFROM:+0200
TZOFFSETTO:+0100
TZNAME:CET
DTSTART:20231029T010000
END:STANDARD
END:VTIMEZONE
BEGIN:VEVENT
DTSTART;TZID=Europe/Oslo:20221101T080000
DTEND;TZID=Europe/Oslo:20221101T110000
DTSTAMP:20260425T164233
CREATED:20221017T173556Z
LAST-MODIFIED:20221017T174207Z
UID:544-1667289600-1667300400@www.askoynr.no
SUMMARY:Bransjeseminar for Bygg- og anleggsbransjen
DESCRIPTION:BDO inviterer til bransjeseminar for å dele årets bransjeanalyse med selskaper som har behov for å øke egen innsikt om viktige bransjeforhold. Bygg- og anleggsbransjen er en av Norges største\, og det tar vi på alvor gjennom å bidra med databasert innsikt som er viktig for å få et godt beslutningsgrunnlag. Samtidig er analysen et godt verktøy for å se på trender og utvikling i bransjen. \n\nÅrets bransjeanalyse fokuserer på utvikling i vekst\, lønnsomhet og konkurranseforhold i ulike deler av verdikjeden i bransjen\, nasjonalt og regionalt. Vi trekker også fram de muligheter som bærekraftig utvikling gir for bransjen ­- nå og i framtiden. \nProgram:\nVelkommen\nCharlotte Bårdsen\, Partner/revisor\, BDO \nBDOs bransjeanalyse for Bygg- og anleggsbransjen\nThomas Lidsheim\, Partner\, BDO \nBærekraftige løsninger i verdikjeden\nBjarne Ulvestad\, Adm. direktør\, ØyVAR \nSparebanken Vest- Bærekraftlinket finansiering\nÅsne Ådland Dale\, Head of CsR \nSeminaret er gratis. \nLett frokost fra kl 08:00.  Påmeldingsfrist fredag 28. oktober \n\nHer finner du mer info om program og påmelding: www.bdo.no/nb-no/seminarer/20221101brg
URL:https://www.askoynr.no/kalendar/bransjeseminar-for-bygg-og-anleggsbransjen/
LOCATION:BDO Bergen\, Inger Bang Lunds vei 4\, Bergen\, 5059\, Norge
ORGANIZER;CN="BDO Bergen":MAILTO:alexander.amundsen@bdo.no
END:VEVENT
BEGIN:VEVENT
DTSTART;TZID=Europe/Oslo:20221027T090000
DTEND;TZID=Europe/Oslo:20221027T110000
DTSTAMP:20260425T164233
CREATED:20220920T154228Z
LAST-MODIFIED:20221011T142916Z
UID:436-1666861200-1666868400@www.askoynr.no
SUMMARY:Frokostmøte hos Framo
DESCRIPTION:I 2015 ble Framo en Askøy-bedrift\, da pumpeleverandøren flyttet hovedkontor\, service- og verkstedavdeling inn i nye bygg på Florvåg. Herfra kontrollerer industribedriften all salgsvirksomhet og serviceaktivitet. Med dypvannskai rett utenfor produksjonshallen\, kan kundene komme rett inn for service og deler. \nBli med inn i lokalene hos Framo og hør mer om:\n– bedriftens aktivitet på Askøy\, samt om fabrikkene rundt Bergen og satelittkontorene i verden\n– Hvordan Framo lokalt jobber globalt\n– Driften i dag\, ansatte og rekruttering\n– Markedene industriaktøren opererer i og hvordan Framo ruster seg for fremtiden \nPraktiske opplysninger \n\nParkering utenfor hovedinngangen til Framo\nRegistrering\, mingling og enkel servering fra kl. 08.00 – 08.30\nMøtet er gratis\, men krever påmelding innen 24. oktober via link https://forms.office.com/r/6e5fLtmn2g\nVelkommen til medlemsmøte hos Framo.
URL:https://www.askoynr.no/kalendar/frokostmote-5/
LOCATION:Framo\, Florvågvegen 39\, askøy\, Florvåg\, 5329\, Norway
END:VEVENT
BEGIN:VEVENT
DTSTART;TZID=Europe/Oslo:20221012T160000
DTEND;TZID=Europe/Oslo:20221012T190000
DTSTAMP:20260425T164233
CREATED:20220920T154203Z
LAST-MODIFIED:20220920T154203Z
UID:434-1665590400-1665601200@www.askoynr.no
SUMMARY:Styremøte
DESCRIPTION:
URL:https://www.askoynr.no/kalendar/styremote-7/
END:VEVENT
BEGIN:VEVENT
DTSTART;TZID=Europe/Oslo:20220929T090000
DTEND;TZID=Europe/Oslo:20220929T110000
DTSTAMP:20260425T164233
CREATED:20220920T154109Z
LAST-MODIFIED:20220921T082907Z
UID:432-1664442000-1664449200@www.askoynr.no
SUMMARY:Frokostmøte
DESCRIPTION:08.00 – 08.30\nDiggbar Askøy serverer frokost\nDiggbar.Askøy ( klikk her) \n08.30 – 09.20\nKontrakter v/advokat Harald Alfsen\,\nStiegler Advokatfirma AS\, Askøy \n\nKontraktsfrihet og rammer for kontraktsfrihet\nKort om hva anbud er\nForskjell mellom kontrakter med forbrukere og mellom næringsdrivende\nSærtegn ved bygge- og anleggskontrakter/entreprisemodeller\nAktuelle Norske Standarder og bruken av dem\nHva bør en kontrakt inneholde?\nBack to back-prinsippet\nTypiske risiko- og tvisteområder\nNår kan en kontrakt reforhandles?\nPraktiske råd\n\n09.30\nBedriftspresentasjoner – 3 bedrifter får muligheten til kort presentasjon av hva de jobber med.\nInfo fra Askøy Næringsråd. \n10.00\nTakk for i dag. \nPåmelding via mail til post@askoynr.no innen 27. september
URL:https://www.askoynr.no/kalendar/frokostmote-4/
LOCATION:Zhuset\, Storebotn 7\, Kleppestø\, 5309\, Norge
END:VEVENT
BEGIN:VEVENT
DTSTART;TZID=Europe/Oslo:20220921T163000
DTEND;TZID=Europe/Oslo:20220921T180000
DTSTAMP:20260425T164233
CREATED:20220920T154025Z
LAST-MODIFIED:20220920T154025Z
UID:430-1663777800-1663783200@www.askoynr.no
SUMMARY:Styremøte
DESCRIPTION:
URL:https://www.askoynr.no/kalendar/styremote-6/
END:VEVENT
BEGIN:VEVENT
DTSTART;VALUE=DATE:20220827
DTEND;VALUE=DATE:20220829
DTSTAMP:20260425T164233
CREATED:20220920T153951Z
LAST-MODIFIED:20220920T153951Z
UID:428-1661562000-1661648399@www.askoynr.no
SUMMARY:Ta Sjansen
DESCRIPTION:Lørdag 27. august inviterer vi til Ta Sjansen på Viknes sitt anlegg i Bakarvågen. Folkefest på dagtid og 15 båter ut fra rampen\, mange aktiviteter for store små. Om kvelden inviteres det til fest for brdrifter med topp underholdning.
URL:https://www.askoynr.no/kalendar/ta-sjansen/
END:VEVENT
BEGIN:VEVENT
DTSTART;TZID=Europe/Oslo:20220825T090000
DTEND;TZID=Europe/Oslo:20220825T110000
DTSTAMP:20260425T164233
CREATED:20220920T153816Z
LAST-MODIFIED:20220920T153816Z
UID:426-1661418000-1661425200@www.askoynr.no
SUMMARY:Frokostmøte
DESCRIPTION:
URL:https://www.askoynr.no/kalendar/frokostmote-3/
END:VEVENT
BEGIN:VEVENT
DTSTART;TZID=Europe/Oslo:20220817T163000
DTEND;TZID=Europe/Oslo:20220817T180000
DTSTAMP:20260425T164233
CREATED:20220920T153716Z
LAST-MODIFIED:20220920T153716Z
UID:424-1660753800-1660759200@www.askoynr.no
SUMMARY:Styremøte
DESCRIPTION:
URL:https://www.askoynr.no/kalendar/styremote-5/
END:VEVENT
BEGIN:VEVENT
DTSTART;TZID=Europe/Oslo:20220616T090000
DTEND;TZID=Europe/Oslo:20220616T110000
DTSTAMP:20260425T164233
CREATED:20220920T153650Z
LAST-MODIFIED:20220920T153650Z
UID:422-1655370000-1655377200@www.askoynr.no
SUMMARY:Frokostmøte
DESCRIPTION:
URL:https://www.askoynr.no/kalendar/frokostmote-2/
END:VEVENT
BEGIN:VEVENT
DTSTART;TZID=Europe/Oslo:20220608T163000
DTEND;TZID=Europe/Oslo:20220608T180000
DTSTAMP:20260425T164233
CREATED:20220920T153558Z
LAST-MODIFIED:20220920T153558Z
UID:420-1654705800-1654711200@www.askoynr.no
SUMMARY:Styremøte
DESCRIPTION:
URL:https://www.askoynr.no/kalendar/styremote-4/
END:VEVENT
BEGIN:VEVENT
DTSTART;TZID=Europe/Oslo:20220519T090000
DTEND;TZID=Europe/Oslo:20220519T180000
DTSTAMP:20260425T164233
CREATED:20220920T153341Z
LAST-MODIFIED:20220920T153341Z
UID:418-1652950800-1652983200@www.askoynr.no
SUMMARY:Frokostmøte
DESCRIPTION:Presentasjon av KILDN
URL:https://www.askoynr.no/kalendar/frokostmote/
END:VEVENT
BEGIN:VEVENT
DTSTART;TZID=Europe/Oslo:20220511T163000
DTEND;TZID=Europe/Oslo:20220511T180000
DTSTAMP:20260425T164233
CREATED:20220920T153145Z
LAST-MODIFIED:20220920T153507Z
UID:416-1652286600-1652292000@www.askoynr.no
SUMMARY:Styremøte
DESCRIPTION:
URL:https://www.askoynr.no/kalendar/styremote-3/
END:VEVENT
BEGIN:VEVENT
DTSTART;TZID=Europe/Oslo:20220420T163000
DTEND;TZID=Europe/Oslo:20220420T180000
DTSTAMP:20260425T164233
CREATED:20220920T153044Z
LAST-MODIFIED:20220920T153502Z
UID:414-1650472200-1650477600@www.askoynr.no
SUMMARY:Styremøte
DESCRIPTION:
URL:https://www.askoynr.no/kalendar/styremote-2/
END:VEVENT
BEGIN:VEVENT
DTSTART;TZID=Europe/Oslo:20211215T080000
DTEND;TZID=Europe/Oslo:20211215T093000
DTSTAMP:20260425T164233
CREATED:20211128T233108Z
LAST-MODIFIED:20220920T153454Z
UID:202-1639555200-1639560600@www.askoynr.no
SUMMARY:Julefrokostmøte
DESCRIPTION:
URL:https://www.askoynr.no/kalendar/julefrokostmote/
LOCATION:Helletun AS\, Storebotn 12 A\, Kleppestø\, 5309\, Norway
END:VEVENT
BEGIN:VEVENT
DTSTART;TZID=Europe/Oslo:20211120T190000
DTEND;TZID=Europe/Oslo:20211120T233000
DTSTAMP:20260425T164233
CREATED:20220920T152734Z
LAST-MODIFIED:20220920T153447Z
UID:409-1637434800-1637451000@www.askoynr.no
SUMMARY:Årsfest - Julebord
DESCRIPTION:Årsfest – Julebord med utdeling av Næringspris. \nVi byr på god mat og drikke – underholdning – sosialt samvær. \nEgen invitasjon kommer.
URL:https://www.askoynr.no/kalendar/arsfest-julebord/
LOCATION:Fargeriet\, Strusshamn
END:VEVENT
BEGIN:VEVENT
DTSTART;TZID=Europe/Oslo:20211011T163000
DTEND;TZID=Europe/Oslo:20211011T180000
DTSTAMP:20260425T164233
CREATED:20220920T152919Z
LAST-MODIFIED:20220920T153849Z
UID:412-1633969800-1633975200@www.askoynr.no
SUMMARY:Styremøte
DESCRIPTION:
URL:https://www.askoynr.no/kalendar/styremote/
LOCATION:Helletun AS\, Storebotn 12 A\, Kleppestø\, 5309\, Norway
END:VEVENT
END:VCALENDAR