BEGIN:VCALENDAR
VERSION:2.0
PRODID:-//Askøy Næringsråd - ECPv6.15.20//NONSGML v1.0//EN
CALSCALE:GREGORIAN
METHOD:PUBLISH
X-WR-CALNAME:Askøy Næringsråd
X-ORIGINAL-URL:https://www.askoynr.no
X-WR-CALDESC:Events for Askøy Næringsråd
REFRESH-INTERVAL;VALUE=DURATION:PT1H
X-Robots-Tag:noindex
X-PUBLISHED-TTL:PT1H
BEGIN:VTIMEZONE
TZID:Europe/Oslo
BEGIN:DAYLIGHT
TZOFFSETFROM:+0100
TZOFFSETTO:+0200
TZNAME:CEST
DTSTART:20200329T010000
END:DAYLIGHT
BEGIN:STANDARD
TZOFFSETFROM:+0200
TZOFFSETTO:+0100
TZNAME:CET
DTSTART:20201025T010000
END:STANDARD
BEGIN:DAYLIGHT
TZOFFSETFROM:+0100
TZOFFSETTO:+0200
TZNAME:CEST
DTSTART:20210328T010000
END:DAYLIGHT
BEGIN:STANDARD
TZOFFSETFROM:+0200
TZOFFSETTO:+0100
TZNAME:CET
DTSTART:20211031T010000
END:STANDARD
BEGIN:DAYLIGHT
TZOFFSETFROM:+0100
TZOFFSETTO:+0200
TZNAME:CEST
DTSTART:20220327T010000
END:DAYLIGHT
BEGIN:STANDARD
TZOFFSETFROM:+0200
TZOFFSETTO:+0100
TZNAME:CET
DTSTART:20221030T010000
END:STANDARD
END:VTIMEZONE
BEGIN:VEVENT
DTSTART;TZID=Europe/Oslo:20211215T080000
DTEND;TZID=Europe/Oslo:20211215T093000
DTSTAMP:20260424T101032
CREATED:20211128T233108Z
LAST-MODIFIED:20220920T153454Z
UID:202-1639555200-1639560600@www.askoynr.no
SUMMARY:Julefrokostmøte
DESCRIPTION:
URL:https://www.askoynr.no/kalendar/julefrokostmote/
LOCATION:Helletun AS\, Storebotn 12 A\, Kleppestø\, 5309\, Norway
END:VEVENT
BEGIN:VEVENT
DTSTART;TZID=Europe/Oslo:20211120T190000
DTEND;TZID=Europe/Oslo:20211120T233000
DTSTAMP:20260424T101032
CREATED:20220920T152734Z
LAST-MODIFIED:20220920T153447Z
UID:409-1637434800-1637451000@www.askoynr.no
SUMMARY:Årsfest - Julebord
DESCRIPTION:Årsfest – Julebord med utdeling av Næringspris. \nVi byr på god mat og drikke – underholdning – sosialt samvær. \nEgen invitasjon kommer.
URL:https://www.askoynr.no/kalendar/arsfest-julebord/
LOCATION:Fargeriet\, Strusshamn
END:VEVENT
BEGIN:VEVENT
DTSTART;TZID=Europe/Oslo:20211011T163000
DTEND;TZID=Europe/Oslo:20211011T180000
DTSTAMP:20260424T101032
CREATED:20220920T152919Z
LAST-MODIFIED:20220920T153849Z
UID:412-1633969800-1633975200@www.askoynr.no
SUMMARY:Styremøte
DESCRIPTION:
URL:https://www.askoynr.no/kalendar/styremote/
LOCATION:Helletun AS\, Storebotn 12 A\, Kleppestø\, 5309\, Norway
END:VEVENT
END:VCALENDAR