BEGIN:VCALENDAR
VERSION:2.0
PRODID:-//Askøy Næringsråd - ECPv6.15.20//NONSGML v1.0//EN
CALSCALE:GREGORIAN
METHOD:PUBLISH
X-WR-CALNAME:Askøy Næringsråd
X-ORIGINAL-URL:https://www.askoynr.no
X-WR-CALDESC:Events for Askøy Næringsråd
REFRESH-INTERVAL;VALUE=DURATION:PT1H
X-Robots-Tag:noindex
X-PUBLISHED-TTL:PT1H
BEGIN:VTIMEZONE
TZID:Europe/Oslo
BEGIN:DAYLIGHT
TZOFFSETFROM:+0100
TZOFFSETTO:+0200
TZNAME:CEST
DTSTART:20220327T010000
END:DAYLIGHT
BEGIN:STANDARD
TZOFFSETFROM:+0200
TZOFFSETTO:+0100
TZNAME:CET
DTSTART:20221030T010000
END:STANDARD
BEGIN:DAYLIGHT
TZOFFSETFROM:+0100
TZOFFSETTO:+0200
TZNAME:CEST
DTSTART:20230326T010000
END:DAYLIGHT
BEGIN:STANDARD
TZOFFSETFROM:+0200
TZOFFSETTO:+0100
TZNAME:CET
DTSTART:20231029T010000
END:STANDARD
BEGIN:DAYLIGHT
TZOFFSETFROM:+0100
TZOFFSETTO:+0200
TZNAME:CEST
DTSTART:20240331T010000
END:DAYLIGHT
BEGIN:STANDARD
TZOFFSETFROM:+0200
TZOFFSETTO:+0100
TZNAME:CET
DTSTART:20241027T010000
END:STANDARD
END:VTIMEZONE
BEGIN:VEVENT
DTSTART;TZID=Europe/Oslo:20231101T110000
DTEND;TZID=Europe/Oslo:20231101T150000
DTSTAMP:20260425T182606
CREATED:20230920T150520Z
LAST-MODIFIED:20230920T150520Z
UID:985-1698836400-1698850800@www.askoynr.no
SUMMARY:Workshop byggesak/UTM/administrasjon/politikere/aktører fra næringsliv
DESCRIPTION:Mer info. og tid kommer!
URL:https://www.askoynr.no/kalendar/workshop-byggesak-utm-administrasjon-politikere-aktorer-fra-naeringsliv-2/
END:VEVENT
BEGIN:VEVENT
DTSTART;TZID=Europe/Oslo:20231114T180000
DTEND;TZID=Europe/Oslo:20231114T200000
DTSTAMP:20260425T182606
CREATED:20231024T085800Z
LAST-MODIFIED:20231024T085800Z
UID:1018-1699984800-1699992000@www.askoynr.no
SUMMARY:Styrets arbeid og styrets ansvar - “en workshop i styrehuset”
DESCRIPTION:Askøy Næringsråd i samarbeid med Advokatfirmaet Stiegler AS inviterer til: \nStyrets arbeid og styrets ansvar – “en workshop i styrehuset”! \nVi setter fokus på styrets betydning for den enkelte bedrift. Fysisk samling for kunnskapsformidling\, erfaringsutveksling og nettverksbygging. Møte henvender seg til styreleder\, styremedlemmer\, aksjonærer og daglig ledere i bedriftene. Møtested: Karsten Moholt kantine\, Storebotn 90 Tidspunkt: Tirsdag 14. November kl.18.00 – 20.00 Enkel servering Påmelding til post@askoynr.no\, innen fredag 10. november Gratis for medlemmer i ANR kr. 200.- pr pers for andre.
URL:https://www.askoynr.no/kalendar/styrets-arbeid-og-styrets-ansvar-en-workshop-i-styrehuset/
END:VEVENT
BEGIN:VEVENT
DTSTART;TZID=Europe/Oslo:20231125T190000
DTEND;TZID=Europe/Oslo:20231125T190000
DTSTAMP:20260425T182606
CREATED:20230103T185205Z
LAST-MODIFIED:20231017T150341Z
UID:674-1700938800-1700938800@www.askoynr.no
SUMMARY:Julebord ANR
DESCRIPTION:Julebord \nLørdag 25. november kl 19.00 i Fargeriet\, Strusshamn \nJulebordsbuffet – Velkomstdrikke – God underholdnning \nUtdeling av Næringspris og Grunderpris \nAlt dette for kr. 1150.- pr pers. \nSalg av vin – øl -min.vann \nMax 6 personer pr bedrift. \n\nBindende påmelding til post@askoynr.no \nPåmelding så snart som mulig ( de beste plassene går først…) \n  \n 
URL:https://www.askoynr.no/kalendar/julebord-anr/
LOCATION:Fargeriet\, Strusshamn
END:VEVENT
END:VCALENDAR