BEGIN:VCALENDAR
VERSION:2.0
PRODID:-//Askøy Næringsråd - ECPv6.15.20//NONSGML v1.0//EN
CALSCALE:GREGORIAN
METHOD:PUBLISH
X-ORIGINAL-URL:https://www.askoynr.no
X-WR-CALDESC:Events for Askøy Næringsråd
REFRESH-INTERVAL;VALUE=DURATION:PT1H
X-Robots-Tag:noindex
X-PUBLISHED-TTL:PT1H
BEGIN:VTIMEZONE
TZID:Europe/Oslo
BEGIN:DAYLIGHT
TZOFFSETFROM:+0100
TZOFFSETTO:+0200
TZNAME:CEST
DTSTART:20230326T010000
END:DAYLIGHT
BEGIN:STANDARD
TZOFFSETFROM:+0200
TZOFFSETTO:+0100
TZNAME:CET
DTSTART:20231029T010000
END:STANDARD
BEGIN:DAYLIGHT
TZOFFSETFROM:+0100
TZOFFSETTO:+0200
TZNAME:CEST
DTSTART:20240331T010000
END:DAYLIGHT
BEGIN:STANDARD
TZOFFSETFROM:+0200
TZOFFSETTO:+0100
TZNAME:CET
DTSTART:20241027T010000
END:STANDARD
BEGIN:DAYLIGHT
TZOFFSETFROM:+0100
TZOFFSETTO:+0200
TZNAME:CEST
DTSTART:20250330T010000
END:DAYLIGHT
BEGIN:STANDARD
TZOFFSETFROM:+0200
TZOFFSETTO:+0100
TZNAME:CET
DTSTART:20251026T010000
END:STANDARD
END:VTIMEZONE
BEGIN:VEVENT
DTSTART;VALUE=DATE:20240821
DTEND;VALUE=DATE:20240822
DTSTAMP:20260425T023738
CREATED:20240701T100746Z
LAST-MODIFIED:20240701T100755Z
UID:1968-1724198400-1724284799@www.askoynr.no
SUMMARY:Styremøte ANR
DESCRIPTION:
URL:https://www.askoynr.no/kalendar/styremote-anr-4/
END:VEVENT
BEGIN:VEVENT
DTSTART;TZID=Europe/Oslo:20240828T080000
DTEND;TZID=Europe/Oslo:20240828T100000
DTSTAMP:20260425T023738
CREATED:20240705T123737Z
LAST-MODIFIED:20240810T082805Z
UID:2006-1724832000-1724839200@www.askoynr.no
SUMMARY:FROKOSTMINGEL PÅ Z-HUSET
DESCRIPTION:Vi starter dagen med frokost fra kl 08.00 til 08.20 – FROKOST MINGEL \nKl 08.20 – 09.00: \n «Tett på» med Kjell Tore Solvang. Kjell Tore Solvang\, er nytt medlem i Askøy Næringsråd\, og er en av landets fremste foredragsholdere. Han deler ikke bare sin ekspertise fra toppidretten\, men også sin lidenskap for å motivere og inspirere andre. Kjell Tore er bosatt på Askøy\, og med sin unike evne til å koble suksessprinsipper fra idrettsverdenen til næringslivet\, gir Kjell Tore Solvang praktiske verktøy og innsikter som kan transformere din organisasjon. Fra å bygge sterke team til å oppnå vedvarende topprestasjoner\, gir hans foredrag en inspirerende opplevelse. \n0900 – 09.30: \nMingel  \n  \n09.30 – 09.45 : \nFolkeuniversitetets Fagskole – Muligheter for utdanning på fagskolenivå ? \nVed : Wenche Fonneland – Folkeuniversitetes Fagskole \n09.45 -10.00: \nAskøykonferansen 2024 Samarbeid og Muligheter \nPresentasjon av Askøykonferansen av Frode Hetlevik\, næringslos Askøy Næringsråd \nSlutt 10.00: \nFortsatt mingel om du ønsker. \nPåmelding på post@askoynr.no
URL:https://www.askoynr.no/kalendar/frokostmingel-pa-z-huset/
END:VEVENT
END:VCALENDAR