BEGIN:VCALENDAR
VERSION:2.0
PRODID:-//Askøy Næringsråd - ECPv6.15.20//NONSGML v1.0//EN
CALSCALE:GREGORIAN
METHOD:PUBLISH
X-ORIGINAL-URL:https://www.askoynr.no
X-WR-CALDESC:Events for Askøy Næringsråd
REFRESH-INTERVAL;VALUE=DURATION:PT1H
X-Robots-Tag:noindex
X-PUBLISHED-TTL:PT1H
BEGIN:VTIMEZONE
TZID:Europe/Oslo
BEGIN:DAYLIGHT
TZOFFSETFROM:+0100
TZOFFSETTO:+0200
TZNAME:CEST
DTSTART:20240331T010000
END:DAYLIGHT
BEGIN:STANDARD
TZOFFSETFROM:+0200
TZOFFSETTO:+0100
TZNAME:CET
DTSTART:20241027T010000
END:STANDARD
BEGIN:DAYLIGHT
TZOFFSETFROM:+0100
TZOFFSETTO:+0200
TZNAME:CEST
DTSTART:20250330T010000
END:DAYLIGHT
BEGIN:STANDARD
TZOFFSETFROM:+0200
TZOFFSETTO:+0100
TZNAME:CET
DTSTART:20251026T010000
END:STANDARD
BEGIN:DAYLIGHT
TZOFFSETFROM:+0100
TZOFFSETTO:+0200
TZNAME:CEST
DTSTART:20260329T010000
END:DAYLIGHT
BEGIN:STANDARD
TZOFFSETFROM:+0200
TZOFFSETTO:+0100
TZNAME:CET
DTSTART:20261025T010000
END:STANDARD
END:VTIMEZONE
BEGIN:VEVENT
DTSTART;TZID=Europe/Oslo:20250305T113000
DTEND;TZID=Europe/Oslo:20250305T140000
DTSTAMP:20260424T140812
CREATED:20250122T133349Z
LAST-MODIFIED:20250124T173857Z
UID:2674-1741174200-1741183200@www.askoynr.no
SUMMARY:Lunsjmingel på Biologen
DESCRIPTION:Lunsjmingel på Biologen på Herdla 05.03 2025  11.30-1400 – Visningstur på Biologen kl 14. 00 -15.00 \n  \nPROGRAM: \nLunsj kl 11.30 -12.00 \nDestinasjon Fløyen – Anita Nybø. Adm.dir \nFra utsikt til innsikt – gjennom målrettet arbeid\, utvikling og skaperglede har organisasjonen gått fra å være 20 til 90 faste ansatte. I tillegg sysselsettes 120 studenter rundt om på destinasjonen\, hele året. Hovedoppgaven har vert å skape arbeidsplasser\, og en destinasjon du ønsker å komme tilbake til. \nMingel \nByfjordfestivalen – Kultur og turistdestinasjon – Geir Carlsen Daglig leder Byfjordfjordfestivalen A/S \nHerdla Golf  –  En turistattraksjon for Askøy – Atle Færevåg Daglig leder Herdla Golf \nMingel \nSlik Lykkes Askøy med Reiseliv – Anders Nyland  Reiselivsdir. Visit Bergen \nHva er trendene ? Hvilke utfordringer har reiselivet på Vestlandet og hvordan kan Askøy lykkes med en reiselivssatsing ? \n  \nPanel – diskusjon – spørsmål fra salen \nVi trekker et festivalpass til Byfjordfestivalen blant deltagerne \n  \nVisningstur rundt på Biologen kl 14.00 \nPåmelding: post@askoynr.no
URL:https://www.askoynr.no/kalendar/lunsjmingel-pa-biologen/
LOCATION:Biologen Hotel\, Laxeneset\, 5315 Herdla\, Norway
END:VEVENT
BEGIN:VEVENT
DTSTART;VALUE=DATE:20250317
DTEND;VALUE=DATE:20250318
DTSTAMP:20260424T140812
CREATED:20250313T132314Z
LAST-MODIFIED:20250313T132314Z
UID:2815-1742169600-1742255999@www.askoynr.no
SUMMARY:Styremøte
DESCRIPTION:
URL:https://www.askoynr.no/kalendar/styremote-13/
END:VEVENT
BEGIN:VEVENT
DTSTART;TZID=Europe/Oslo:20250320T180000
DTEND;TZID=Europe/Oslo:20250320T230000
DTSTAMP:20260424T140812
CREATED:20241209T121112Z
LAST-MODIFIED:20250305T084458Z
UID:2589-1742493600-1742511600@www.askoynr.no
SUMMARY:Årsmøtet i ANR
DESCRIPTION:Torsdag 20. mars kl. 18.00  \nANGR Brenneri \nEtter årsmøte inviterer vi til sosialt samvær med mat / drikke /underholdning. Krever påmelding. \nLes hele invitasjonen her: https://mailchi.mp/47f83f363209/nyhetsbrev_anr-17229775 \n 
URL:https://www.askoynr.no/kalendar/arsmotet-i-anr/
END:VEVENT
BEGIN:VEVENT
DTSTART;VALUE=DATE:20250324
DTEND;VALUE=DATE:20250325
DTSTAMP:20260424T140812
CREATED:20250313T132427Z
LAST-MODIFIED:20250313T132427Z
UID:2817-1742774400-1742860799@www.askoynr.no
SUMMARY:Styremøte Nytt styre
DESCRIPTION:
URL:https://www.askoynr.no/kalendar/styremote-nytt-styre/
END:VEVENT
END:VCALENDAR