BEGIN:VCALENDAR
VERSION:2.0
PRODID:-//Askøy Næringsråd - ECPv6.15.20//NONSGML v1.0//EN
CALSCALE:GREGORIAN
METHOD:PUBLISH
X-ORIGINAL-URL:https://www.askoynr.no
X-WR-CALDESC:Events for Askøy Næringsråd
REFRESH-INTERVAL;VALUE=DURATION:PT1H
X-Robots-Tag:noindex
X-PUBLISHED-TTL:PT1H
BEGIN:VTIMEZONE
TZID:Europe/Oslo
BEGIN:DAYLIGHT
TZOFFSETFROM:+0100
TZOFFSETTO:+0200
TZNAME:CEST
DTSTART:20240331T010000
END:DAYLIGHT
BEGIN:STANDARD
TZOFFSETFROM:+0200
TZOFFSETTO:+0100
TZNAME:CET
DTSTART:20241027T010000
END:STANDARD
BEGIN:DAYLIGHT
TZOFFSETFROM:+0100
TZOFFSETTO:+0200
TZNAME:CEST
DTSTART:20250330T010000
END:DAYLIGHT
BEGIN:STANDARD
TZOFFSETFROM:+0200
TZOFFSETTO:+0100
TZNAME:CET
DTSTART:20251026T010000
END:STANDARD
BEGIN:DAYLIGHT
TZOFFSETFROM:+0100
TZOFFSETTO:+0200
TZNAME:CEST
DTSTART:20260329T010000
END:DAYLIGHT
BEGIN:STANDARD
TZOFFSETFROM:+0200
TZOFFSETTO:+0100
TZNAME:CET
DTSTART:20261025T010000
END:STANDARD
END:VTIMEZONE
BEGIN:VEVENT
DTSTART;TZID=Europe/Oslo:20250409T080000
DTEND;TZID=Europe/Oslo:20250409T100000
DTSTAMP:20260424T115801
CREATED:20250325T094759Z
LAST-MODIFIED:20250325T094848Z
UID:2843-1744185600-1744192800@www.askoynr.no
SUMMARY:Frokostmingel på Z-Huset
DESCRIPTION:Brit Kjersti Jåstad Management Consulting /Prosjekt Bergen i Sparebank 1 Sør-Norge vil stille med innlegg og bli supplert av Direktør for Bedriftsmarked & Landbruk Anders Sørheim Hundseid Tema: Hvordan påvirker regnskapet hva du får i rente og lån? \n08.00 – 08.30: Frokost og mingel til 08.30\n08.30 – 09.00: Hvordan påvirker regnskapet hva du får i rente og lån? Britt Kjersti Kårstad Sparebank 1 Sør-Norge\n09.00 – 09.30: Mingel\n09.30 – 10.00: Askøy 2035.\nNæringsjef Askøy Kommune Solveig Marie Wiik\n\nLes nyhetsbrevet i siin helhet og meld deg på her:\nhttps://mailchi.mp/askoynf/nyhetsbrev_anr-17230269
URL:https://www.askoynr.no/kalendar/frokostmingel-pa-z-huset-2/
LOCATION:Z huset\, Storebotn 7\, Askøy\, Kleppestø\, 5309
END:VEVENT
BEGIN:VEVENT
DTSTART;VALUE=DATE:20250428
DTEND;VALUE=DATE:20250429
DTSTAMP:20260424T115801
CREATED:20250313T132451Z
LAST-MODIFIED:20250313T132451Z
UID:2819-1745798400-1745884799@www.askoynr.no
SUMMARY:Styremøte
DESCRIPTION:
URL:https://www.askoynr.no/kalendar/styremote-14/
END:VEVENT
END:VCALENDAR