BEGIN:VCALENDAR
VERSION:2.0
PRODID:-//Askøy Næringsråd - ECPv6.15.20//NONSGML v1.0//EN
CALSCALE:GREGORIAN
METHOD:PUBLISH
X-ORIGINAL-URL:https://www.askoynr.no
X-WR-CALDESC:Events for Askøy Næringsråd
REFRESH-INTERVAL;VALUE=DURATION:PT1H
X-Robots-Tag:noindex
X-PUBLISHED-TTL:PT1H
BEGIN:VTIMEZONE
TZID:Europe/Oslo
BEGIN:DAYLIGHT
TZOFFSETFROM:+0100
TZOFFSETTO:+0200
TZNAME:CEST
DTSTART:20240331T010000
END:DAYLIGHT
BEGIN:STANDARD
TZOFFSETFROM:+0200
TZOFFSETTO:+0100
TZNAME:CET
DTSTART:20241027T010000
END:STANDARD
BEGIN:DAYLIGHT
TZOFFSETFROM:+0100
TZOFFSETTO:+0200
TZNAME:CEST
DTSTART:20250330T010000
END:DAYLIGHT
BEGIN:STANDARD
TZOFFSETFROM:+0200
TZOFFSETTO:+0100
TZNAME:CET
DTSTART:20251026T010000
END:STANDARD
BEGIN:DAYLIGHT
TZOFFSETFROM:+0100
TZOFFSETTO:+0200
TZNAME:CEST
DTSTART:20260329T010000
END:DAYLIGHT
BEGIN:STANDARD
TZOFFSETFROM:+0200
TZOFFSETTO:+0100
TZNAME:CET
DTSTART:20261025T010000
END:STANDARD
END:VTIMEZONE
BEGIN:VEVENT
DTSTART;VALUE=DATE:20250613
DTEND;VALUE=DATE:20250614
DTSTAMP:20260424T084418
CREATED:20250325T144321Z
LAST-MODIFIED:20250509T121848Z
UID:2846-1749772800-1749859199@www.askoynr.no
SUMMARY:Velkommen til årets sommerfest for medlemmer i Askøy Næringsråd – med grillmat\, dessertbuffet på vakre Biologen Herdla!
DESCRIPTION:Velkommen til Askøy Næringsråd sin sommerfest på Biologen Herdla 13 Juni. \nVi starter med mingling kl. 16.00. Kl. 17.00 Inntar Idar Vollvik scenen. Idar er en kjent norsk gründer og forretningsmann\, mest kjent for å ha bygget opp mobilselskapet Chess som han solgte med stor gevinst. I senere år har han vært aktiv innen netthandel gjennom selskapet Norske Nettbutikker AS\, hvor han fungerer som daglig leder.​ Norske Nettbutikker AS er en kjede av nettbutikker med base i Bergen. Selskapet drifter i dag 18 ulike nettbutikker med et stort varespekter. Vi gleder oss til å høre Idar fortelle historien sin\, og hva han jobber med i dag. \nMiddagen starter kl.18.30 \n\nVi har booket en buss til Biologen den 13 juni. Den går fra parkeringsplassen på Kleppestø kl. 15.00 Plukker opp folk på Storebotn 7 kl 15.15 og kjører fra Storebotn kl 15.20. Ankomst Herdla kl 16.00\nFra Herdla går den kl 24.30 om natten ! Slipper av folk på veien til Kleppestø som er siste stoppested.\n\nBestill dine billetter her : \nhttps://forms.office.com/Pages/ResponsePage.aspx?id=y9HE1DVNa0695tlsIidvQwIvfvQBrIJLsfMjggRHf4JUNzZFR1pNRVFUNURUVjUzUDRBWUdYQlZHMi4u
URL:https://www.askoynr.no/kalendar/anr-sin-sommerfest-pa-biologen/
END:VEVENT
BEGIN:VEVENT
DTSTART;VALUE=DATE:20250616
DTEND;VALUE=DATE:20250617
DTSTAMP:20260424T084418
CREATED:20250313T132556Z
LAST-MODIFIED:20250313T132556Z
UID:2823-1750032000-1750118399@www.askoynr.no
SUMMARY:Styremøte
DESCRIPTION:
URL:https://www.askoynr.no/kalendar/styremote-16/
END:VEVENT
END:VCALENDAR