BEGIN:VCALENDAR
VERSION:2.0
PRODID:-//Askøy Næringsråd - ECPv6.15.20//NONSGML v1.0//EN
CALSCALE:GREGORIAN
METHOD:PUBLISH
X-ORIGINAL-URL:https://www.askoynr.no
X-WR-CALDESC:Events for Askøy Næringsråd
REFRESH-INTERVAL;VALUE=DURATION:PT1H
X-Robots-Tag:noindex
X-PUBLISHED-TTL:PT1H
BEGIN:VTIMEZONE
TZID:Europe/Oslo
BEGIN:DAYLIGHT
TZOFFSETFROM:+0100
TZOFFSETTO:+0200
TZNAME:CEST
DTSTART:20240331T010000
END:DAYLIGHT
BEGIN:STANDARD
TZOFFSETFROM:+0200
TZOFFSETTO:+0100
TZNAME:CET
DTSTART:20241027T010000
END:STANDARD
BEGIN:DAYLIGHT
TZOFFSETFROM:+0100
TZOFFSETTO:+0200
TZNAME:CEST
DTSTART:20250330T010000
END:DAYLIGHT
BEGIN:STANDARD
TZOFFSETFROM:+0200
TZOFFSETTO:+0100
TZNAME:CET
DTSTART:20251026T010000
END:STANDARD
BEGIN:DAYLIGHT
TZOFFSETFROM:+0100
TZOFFSETTO:+0200
TZNAME:CEST
DTSTART:20260329T010000
END:DAYLIGHT
BEGIN:STANDARD
TZOFFSETFROM:+0200
TZOFFSETTO:+0100
TZNAME:CET
DTSTART:20261025T010000
END:STANDARD
END:VTIMEZONE
BEGIN:VEVENT
DTSTART;VALUE=DATE:20250815
DTEND;VALUE=DATE:20250817
DTSTAMP:20260424T051739
CREATED:20250313T132637Z
LAST-MODIFIED:20250313T132637Z
UID:2825-1755216000-1755388799@www.askoynr.no
SUMMARY:Byfjordsfestivalen
DESCRIPTION:
URL:https://www.askoynr.no/kalendar/byfjordsfestivalen/
END:VEVENT
BEGIN:VEVENT
DTSTART;TZID=Europe/Oslo:20250828T080000
DTEND;TZID=Europe/Oslo:20250828T100000
DTSTAMP:20260424T051739
CREATED:20250704T093850Z
LAST-MODIFIED:20250704T093923Z
UID:2946-1756368000-1756375200@www.askoynr.no
SUMMARY:Velkommen til Frokostmingel 28.08 Hos Trigger A/S i Bakarvågen 15
DESCRIPTION:PROGRAM: \nKl 08.00 -08.20 Frokost og mingel \nKl 08.20 -08.40 Juridisk helsesjekk – unngå problemer dere foreløpig ikke vet om – Advokatfirma Stiegler \nKl 08.40 -09.00 Trigger \nKl 09.00 -09.20 Omvisning på Trigger \nKl 0920 -0940 Mingel \nKl 0940 –10.00 Medlemsmøte: Hvordan går det i ANR – Økonomi – Planer – Medlemsutvikling – Markedssaker – Askøykonferansen \nKl 1000 Avslutning \n  \nEt mer inkluderende arbeidsliv – med Trigger Trigger er en tiltaksbedrift på Askøy og i Øygarden som tilbyr tilrettelagte arbeidsplasser. På frokostseminaret deler vi hvordan vi jobber med inkludering\, veien til jobb – både i og utenfor Trigger – og vårt arbeid med unge i risiko for utenforskap. Bli inspirert av historier fra ansatte og innsikt i vår hverdag! \nUnngå skjulte juridiske fallgruver Advokatene Aud-Marit Næss og Erlend Bergstrøm fra Stiegler Advokatfirma gir deg konkrete råd og eksempler på hvordan SMB-bedrifter kan redusere risiko og sikre seg bedre juridisk – både i kontrakter\, ansettelser og selskapsstruktur. \n  \nMeld deg på her:  \n 
URL:https://www.askoynr.no/kalendar/velkommen-til-frokostmingel-28-08-hos-trigger-a-s-i-bakarvagen-15/
ATTACH;FMTTYPE=image/jpeg:https://www.askoynr.no/wp-content/uploads/2025/07/Frokostmeeting28_aug.jpg
END:VEVENT
END:VCALENDAR