BEGIN:VCALENDAR
VERSION:2.0
PRODID:-//Askøy Næringsråd - ECPv6.15.20//NONSGML v1.0//EN
CALSCALE:GREGORIAN
METHOD:PUBLISH
X-ORIGINAL-URL:https://www.askoynr.no
X-WR-CALDESC:Events for Askøy Næringsråd
REFRESH-INTERVAL;VALUE=DURATION:PT1H
X-Robots-Tag:noindex
X-PUBLISHED-TTL:PT1H
BEGIN:VTIMEZONE
TZID:Europe/Oslo
BEGIN:DAYLIGHT
TZOFFSETFROM:+0100
TZOFFSETTO:+0200
TZNAME:CEST
DTSTART:20240331T010000
END:DAYLIGHT
BEGIN:STANDARD
TZOFFSETFROM:+0200
TZOFFSETTO:+0100
TZNAME:CET
DTSTART:20241027T010000
END:STANDARD
BEGIN:DAYLIGHT
TZOFFSETFROM:+0100
TZOFFSETTO:+0200
TZNAME:CEST
DTSTART:20250330T010000
END:DAYLIGHT
BEGIN:STANDARD
TZOFFSETFROM:+0200
TZOFFSETTO:+0100
TZNAME:CET
DTSTART:20251026T010000
END:STANDARD
BEGIN:DAYLIGHT
TZOFFSETFROM:+0100
TZOFFSETTO:+0200
TZNAME:CEST
DTSTART:20260329T010000
END:DAYLIGHT
BEGIN:STANDARD
TZOFFSETFROM:+0200
TZOFFSETTO:+0100
TZNAME:CET
DTSTART:20261025T010000
END:STANDARD
END:VTIMEZONE
BEGIN:VEVENT
DTSTART;TZID=Europe/Oslo:20251001T153000
DTEND;TZID=Europe/Oslo:20251001T173000
DTSTAMP:20260424T013543
CREATED:20250829T094229Z
LAST-MODIFIED:20250908T081717Z
UID:2993-1759332600-1759339800@www.askoynr.no
SUMMARY:Styremøte
DESCRIPTION:
URL:https://www.askoynr.no/kalendar/styremote-og-strategimote/
END:VEVENT
BEGIN:VEVENT
DTSTART;TZID=Europe/Oslo:20251002T113000
DTEND;TZID=Europe/Oslo:20251002T143000
DTSTAMP:20260424T013543
CREATED:20250908T081800Z
LAST-MODIFIED:20250916T133556Z
UID:3011-1759404600-1759415400@www.askoynr.no
SUMMARY:Lunsj Mingel hos NOBI torsdag 2. okt. Mjølkevikvarden 13\, 5315 Herdla
DESCRIPTION:ANR ønsker deg velkommen til Lunsj Mingel  02.10.2025 kl 11.30 – 14.00 \n\nPROGRAM FOR DAGEN\nkl 11.30 – 12.00   Lunsj og mingel  \nKl 12.00 – 12.30   Hvordan vinne offentlige kontrakter/anbud- Nina Sørensen. Senioradvokat SIMONSEN VOGT WIIG \n\nKl 12.30 – 13.00  Nobi i full fart mot 100 – Espen Mikalsen\, daglig leder Nobi \n\n13.00 -1320 Mingel \n\nKl 13.20 – 13.30 Askøykonferansen 2025- 21 November i Kipo Kultursal – Frode Hetlevik- Næringslos ANR\n\nKl 13.30 – 14.30 Omvisning hos Nobi    \n\nCA14.30 Avslutning  \nMeld deg på her!!
URL:https://www.askoynr.no/kalendar/frokost-mingel/
LOCATION:Nobi Mjølkevikvarden 13 5315 Herdla\, Mjølkevikvarden 13\, Herdla\, 5315\, Norway
ATTACH;FMTTYPE=image/jpeg:https://www.askoynr.no/wp-content/uploads/2025/09/1_LunsjNOBI.jpg
END:VEVENT
END:VCALENDAR