BEGIN:VCALENDAR
VERSION:2.0
PRODID:-//Askøy Næringsråd - ECPv6.15.20//NONSGML v1.0//EN
CALSCALE:GREGORIAN
METHOD:PUBLISH
X-WR-CALNAME:Askøy Næringsråd
X-ORIGINAL-URL:https://www.askoynr.no
X-WR-CALDESC:Events for Askøy Næringsråd
REFRESH-INTERVAL;VALUE=DURATION:PT1H
X-Robots-Tag:noindex
X-PUBLISHED-TTL:PT1H
BEGIN:VTIMEZONE
TZID:Europe/Oslo
BEGIN:DAYLIGHT
TZOFFSETFROM:+0100
TZOFFSETTO:+0200
TZNAME:CEST
DTSTART:20240331T010000
END:DAYLIGHT
BEGIN:STANDARD
TZOFFSETFROM:+0200
TZOFFSETTO:+0100
TZNAME:CET
DTSTART:20241027T010000
END:STANDARD
BEGIN:DAYLIGHT
TZOFFSETFROM:+0100
TZOFFSETTO:+0200
TZNAME:CEST
DTSTART:20250330T010000
END:DAYLIGHT
BEGIN:STANDARD
TZOFFSETFROM:+0200
TZOFFSETTO:+0100
TZNAME:CET
DTSTART:20251026T010000
END:STANDARD
BEGIN:DAYLIGHT
TZOFFSETFROM:+0100
TZOFFSETTO:+0200
TZNAME:CEST
DTSTART:20260329T010000
END:DAYLIGHT
BEGIN:STANDARD
TZOFFSETFROM:+0200
TZOFFSETTO:+0100
TZNAME:CET
DTSTART:20261025T010000
END:STANDARD
END:VTIMEZONE
BEGIN:VEVENT
DTSTART;TZID=Europe/Oslo:20251203T080000
DTEND;TZID=Europe/Oslo:20251203T100000
DTSTAMP:20260423T222217
CREATED:20251011T145617Z
LAST-MODIFIED:20251124T114342Z
UID:3091-1764748800-1764756000@www.askoynr.no
SUMMARY:MØTECUP: ANR sammen med Interactive People AS
DESCRIPTION:Bli kjent med mangfoldet av næringsliv på Askøy med “SPEED DATING”. Her vil vi gi bedrifter mulighet for korte konsise møter som igjen kan skape gode relasjoner. Vi kjører møter på 10 minutter og åpner under fastsatt struktur som skaper en unik mulighet for samarbeid. Tid for speed dating!! Varighet 60 minutter\nPROGRAM:\n08.00 – Mingling og bespisning (frokost fra ……)\n08.30 – BRIEF fra Interactive People vedr. Møtecup\n08.40 – Møte Cup / Speed dating er i gang!\n09.40 – Vi avslutter\n09.45 – Kort evaluering og mingling\n10.00 – Avslutning og ha en god jul!! La oss skape gode relasjoner!\n\nMØTESTRUKTUR: Oppstart hvert 10. minutt Hvert møte varer i 10 minutter Skjermen viser hvem du skal ha møte med MØTE: 4\,5 min hver\, 1 min til å bytte på Det ringes med klokken ved start av møte Etter 8 min kommer neste møte opp på skjermen Varighet 60 minutter Hva kan vi hjelpe hverandre med? Hvordan kan vi anbefale hverandre? MÅLSETTING: Bli bedre kjent med tilbudene vi har på Askøy og fremsnakke hverandre\n\nMELD DEG PÅ HER
URL:https://www.askoynr.no/kalendar/anr-og-interactive-people-arrangerer/
LOCATION:ANR\, Storebotn. 26\, Askøy\, Kleppestø\, 5309\, Norway
ATTACH;FMTTYPE=image/jpeg:https://www.askoynr.no/wp-content/uploads/2025/10/1_meetingcup.jpg
END:VEVENT
BEGIN:VEVENT
DTSTART;TZID=Europe/Oslo:20251211T123000
DTEND;TZID=Europe/Oslo:20251211T150000
DTSTAMP:20260423T222217
CREATED:20251201T121523Z
LAST-MODIFIED:20251211T110108Z
UID:3190-1765456200-1765465200@www.askoynr.no
SUMMARY:Velkommen til Julelunsj hos ANR
DESCRIPTION:Velkommen til Julelunsj jos ANR – Torsdag 11 desember kl 12:30-15:00. Mer info kommer \nMeld dere på her: \nhttps://forms.office.com/Pages/ResponsePage.aspx?id=y9HE1DVNa0695tlsIidvQwIvfvQBrIJLsfMjggRHf4JURUVVUEdFMVBYRFROTDVPMkVFQzMwQkdNUy4u
URL:https://www.askoynr.no/kalendar/velkommen-til-julelunsj-hos-anr/
END:VEVENT
BEGIN:VEVENT
DTSTART;TZID=Europe/Oslo:20251211T153000
DTEND;TZID=Europe/Oslo:20251211T170000
DTSTAMP:20260423T222217
CREATED:20250908T081949Z
LAST-MODIFIED:20250908T081949Z
UID:3015-1765467000-1765472400@www.askoynr.no
SUMMARY:Styremøte
DESCRIPTION:
URL:https://www.askoynr.no/kalendar/styremote-19/
END:VEVENT
END:VCALENDAR