BEGIN:VCALENDAR
VERSION:2.0
PRODID:-//Askøy Næringsråd - ECPv6.15.20//NONSGML v1.0//EN
CALSCALE:GREGORIAN
METHOD:PUBLISH
X-ORIGINAL-URL:https://www.askoynr.no
X-WR-CALDESC:Events for Askøy Næringsråd
REFRESH-INTERVAL;VALUE=DURATION:PT1H
X-Robots-Tag:noindex
X-PUBLISHED-TTL:PT1H
BEGIN:VTIMEZONE
TZID:Europe/Oslo
BEGIN:DAYLIGHT
TZOFFSETFROM:+0100
TZOFFSETTO:+0200
TZNAME:CEST
DTSTART:20250330T010000
END:DAYLIGHT
BEGIN:STANDARD
TZOFFSETFROM:+0200
TZOFFSETTO:+0100
TZNAME:CET
DTSTART:20251026T010000
END:STANDARD
BEGIN:DAYLIGHT
TZOFFSETFROM:+0100
TZOFFSETTO:+0200
TZNAME:CEST
DTSTART:20260329T010000
END:DAYLIGHT
BEGIN:STANDARD
TZOFFSETFROM:+0200
TZOFFSETTO:+0100
TZNAME:CET
DTSTART:20261025T010000
END:STANDARD
BEGIN:DAYLIGHT
TZOFFSETFROM:+0100
TZOFFSETTO:+0200
TZNAME:CEST
DTSTART:20270328T010000
END:DAYLIGHT
BEGIN:STANDARD
TZOFFSETFROM:+0200
TZOFFSETTO:+0100
TZNAME:CET
DTSTART:20271031T010000
END:STANDARD
END:VTIMEZONE
BEGIN:VEVENT
DTSTART;TZID=Europe/Oslo:20260303T134500
DTEND;TZID=Europe/Oslo:20260303T154500
DTSTAMP:20260423T170857
CREATED:20260204T201416Z
LAST-MODIFIED:20260204T201416Z
UID:3361-1772545500-1772552700@www.askoynr.no
SUMMARY:Frivilligbørs Askøy: FRIVILLIGE ORGANISASJONER – NÆRINGSLIV – OFFENTLIGE TJENESTER
DESCRIPTION:Frivilligbørs Askøy arrangeres tirsdag 3. mars hos Ome Solutions i Storebotn\, og samler frivillige organisasjoner\, næringsliv og offentlige tjenester til en ettermiddag med samarbeid\, deling og nye forbindelser. \nProgrammet starter med registrering kl. 13.45\, før deltakerne ønskes velkommen og introduseres for spillereglene kl. 14.00. Videre blir det plakatverksted kl. 14.15\, før børsen åpner kl. 14.45. Dagen avsluttes med oppsummering kl. 15.45. \nFrivilligbørs handler om å dele det vi allerede har – styrker\, ressurser og kompetanse – og samtidig utforske hva vi trenger for at aktiviteter og tilbud skal bli enda bedre. Her deles husrom\, ting og tang\, nyttige never\, kloke hoder\, varme hjerter og gode forbindelser. \nGjennom frivilligbørsen får deltakerne mulighet til å bli kjent med Askøy på en ny måte\, vise hva de brenner for og delta i nye vinn-vinn-samarbeid. Vi møtes ansikt til ansikt og utveksler ønsker og ideer til samarbeid\, og det inngås konkrete avtaler som ikke omfatter penger. \nPåmelding og mer informasjon finner du via QR-koden i invitasjonen. Har du spørsmål\, kan du kontakte Frivilligsentralen i Askøy kommune på frivilligsentralen@askoy.kommune.no eller telefon 56 15 86 30.
URL:https://www.askoynr.no/kalendar/frivilligbors-askoy-frivillige-organisasjoner-naeringsliv-offentlige-tjenester/
END:VEVENT
BEGIN:VEVENT
DTSTART;TZID=Europe/Oslo:20260303T153000
DTEND;TZID=Europe/Oslo:20260303T170000
DTSTAMP:20260423T170857
CREATED:20260112T170724Z
LAST-MODIFIED:20260112T170724Z
UID:3262-1772551800-1772557200@www.askoynr.no
SUMMARY:Styremøte
DESCRIPTION:
URL:https://www.askoynr.no/kalendar/styremote-22/
END:VEVENT
BEGIN:VEVENT
DTSTART;TZID=Europe/Oslo:20260304T080000
DTEND;TZID=Europe/Oslo:20260304T100000
DTSTAMP:20260423T170857
CREATED:20251219T130150Z
LAST-MODIFIED:20260216T184108Z
UID:3234-1772611200-1772618400@www.askoynr.no
SUMMARY:Frokostmingel hos ANR i Storebotn 26\, 5309 KLEPPESTØ- Ome Solutions bygget
DESCRIPTION:PROGRAM FOR DAGEN \n08.00 – 08.20 Serveres det en enkel frokost \n08.20 – 09.45 Ordførerens innlegg \nOrdføreren gir en kort status for utviklingen i Askøy kommune. Han presenterer nøkkelprosjekter og peker på muligheter fremover. \nTEMA \n\nKPA; status og veien videre\nUtvikling i Kleppestø\nUtbygging av Myrane\nStore prosjekter som pågår nå\nAskøypakken\nMiljøløftet\nUtsikter for 2026 ?\n\nDet blir mingelpause innimellom og det blir og satt av tid til spørsmål fra næringslivet. \n09.45 – 10.00 – Presentasjon av bransjekonferansen Bygg Askøy Visjon 2030 – Frode Hetlevik- Næringslos \nMeld deg på her: \nhttps://forms.office.com/Pages/ResponsePage.aspx?id=y9HE1DVNa0695tlsIidvQwIvfvQBrIJLsfMjggRHf4JURElFSVozRU83UVFJWjhQT0JSVDE2Tk9GSy4u
URL:https://www.askoynr.no/kalendar/frokostmingel-4/
END:VEVENT
BEGIN:VEVENT
DTSTART;TZID=Europe/Oslo:20260319T180000
DTEND;TZID=Europe/Oslo:20260319T200000
DTSTAMP:20260423T170857
CREATED:20260112T170823Z
LAST-MODIFIED:20260319T104529Z
UID:3264-1773943200-1773950400@www.askoynr.no
SUMMARY:Årsmøte med enkel bevertning
DESCRIPTION:
URL:https://www.askoynr.no/kalendar/arsmote-med-enkel-bevertning/
END:VEVENT
END:VCALENDAR