BEGIN:VCALENDAR
VERSION:2.0
PRODID:-//Askøy Næringsråd - ECPv6.15.20//NONSGML v1.0//EN
CALSCALE:GREGORIAN
METHOD:PUBLISH
X-ORIGINAL-URL:https://www.askoynr.no
X-WR-CALDESC:Events for Askøy Næringsråd
REFRESH-INTERVAL;VALUE=DURATION:PT1H
X-Robots-Tag:noindex
X-PUBLISHED-TTL:PT1H
BEGIN:VTIMEZONE
TZID:Europe/Oslo
BEGIN:DAYLIGHT
TZOFFSETFROM:+0100
TZOFFSETTO:+0200
TZNAME:CEST
DTSTART:20250330T010000
END:DAYLIGHT
BEGIN:STANDARD
TZOFFSETFROM:+0200
TZOFFSETTO:+0100
TZNAME:CET
DTSTART:20251026T010000
END:STANDARD
BEGIN:DAYLIGHT
TZOFFSETFROM:+0100
TZOFFSETTO:+0200
TZNAME:CEST
DTSTART:20260329T010000
END:DAYLIGHT
BEGIN:STANDARD
TZOFFSETFROM:+0200
TZOFFSETTO:+0100
TZNAME:CET
DTSTART:20261025T010000
END:STANDARD
BEGIN:DAYLIGHT
TZOFFSETFROM:+0100
TZOFFSETTO:+0200
TZNAME:CEST
DTSTART:20270328T010000
END:DAYLIGHT
BEGIN:STANDARD
TZOFFSETFROM:+0200
TZOFFSETTO:+0100
TZNAME:CET
DTSTART:20271031T010000
END:STANDARD
END:VTIMEZONE
BEGIN:VEVENT
DTSTART;TZID=Europe/Oslo:20260506T080000
DTEND;TZID=Europe/Oslo:20260506T100000
DTSTAMP:20260423T171851
CREATED:20260210T111247Z
LAST-MODIFIED:20260421T090434Z
UID:3396-1778054400-1778061600@www.askoynr.no
SUMMARY:Frokostmingel
DESCRIPTION:Askøy Næringsråd Inviterer til frokost mingel 06.05  Storebotn 26 5309 Kleppestø \n\n\n\nVi samles til en spennende morgen med gode innlegg og mye mingel. \nKl 0800 – 0830  – Frokost og Mingel\nKl 0830 – 0850  –  Kleppestø 2.0 fra Asfalt til attraktiv sentrum\, Anders Elling P. Johansen\,assosiert partner  i CMS Kluge Advokatfirma AS – Bergen.\nKl 0850 – 0910  – En spennende reise og utvikling i Byggenæringen\, Erlend Sandøy i Sandøy Byggeservice\nKl 0910 – 0930  – Kaffe og Mingel\nKl 0930 – 0950 – Lokalavisens viktike rolle i næringslivet. Redaktør Yngve Johnsen i Askøy 24 forteller om lokalavisens samfunnsoppdrag knyttet til næringslivet.\nKl 0950 – 10.00 Sommerfest på Biologen\, Askøykonferansen og Årsfest for ANR  – ved Næringslos Frode Hetlevik \n\n\n\n\nhttps://forms.office.com/Pages/ResponsePage.aspx?id=y9HE1DVNa0695tlsIidvQwIvfvQBrIJLsfMjggRHf4JUNUs2S1FWNFZUOEhHRjlZNkVLTFdSVzJTUy4u
URL:https://www.askoynr.no/kalendar/frokostmingel-6/
END:VEVENT
BEGIN:VEVENT
DTSTART;VALUE=DATE:20260511
DTEND;VALUE=DATE:20260512
DTSTAMP:20260423T171851
CREATED:20260409T140011Z
LAST-MODIFIED:20260409T140011Z
UID:3585-1778457600-1778543999@www.askoynr.no
SUMMARY:Styremøte
DESCRIPTION:Mer info. kommer
URL:https://www.askoynr.no/kalendar/styremote-23/
END:VEVENT
END:VCALENDAR