BEGIN:VCALENDAR
VERSION:2.0
PRODID:-//Askøy Næringsråd - ECPv6.15.20//NONSGML v1.0//EN
CALSCALE:GREGORIAN
METHOD:PUBLISH
X-WR-CALNAME:Askøy Næringsråd
X-ORIGINAL-URL:https://www.askoynr.no
X-WR-CALDESC:Events for Askøy Næringsråd
REFRESH-INTERVAL;VALUE=DURATION:PT1H
X-Robots-Tag:noindex
X-PUBLISHED-TTL:PT1H
BEGIN:VTIMEZONE
TZID:Europe/Oslo
BEGIN:DAYLIGHT
TZOFFSETFROM:+0100
TZOFFSETTO:+0200
TZNAME:CEST
DTSTART:20220327T010000
END:DAYLIGHT
BEGIN:STANDARD
TZOFFSETFROM:+0200
TZOFFSETTO:+0100
TZNAME:CET
DTSTART:20221030T010000
END:STANDARD
BEGIN:DAYLIGHT
TZOFFSETFROM:+0100
TZOFFSETTO:+0200
TZNAME:CEST
DTSTART:20230326T010000
END:DAYLIGHT
BEGIN:STANDARD
TZOFFSETFROM:+0200
TZOFFSETTO:+0100
TZNAME:CET
DTSTART:20231029T010000
END:STANDARD
BEGIN:DAYLIGHT
TZOFFSETFROM:+0100
TZOFFSETTO:+0200
TZNAME:CEST
DTSTART:20240331T010000
END:DAYLIGHT
BEGIN:STANDARD
TZOFFSETFROM:+0200
TZOFFSETTO:+0100
TZNAME:CET
DTSTART:20241027T010000
END:STANDARD
END:VTIMEZONE
BEGIN:VEVENT
DTSTART;TZID=Europe/Oslo:20231212T120000
DTEND;TZID=Europe/Oslo:20231212T120000
DTSTAMP:20260424T012258
CREATED:20231127T164048Z
LAST-MODIFIED:20231127T164817Z
UID:1044-1702382400-1702382400@www.askoynr.no
SUMMARY:Askøy Næringsråd inviterer til lunsjmøte på Askøy Videregående Skole
DESCRIPTION:Info og omvisning på skolen og den nye kultursalen Kipo  – eksklusivt for medlemmer i ANR. \nLett lunsj – omvisning – presentasjon av prosjektet. \ntirsdag 12. desember kl.12.00 -14.00 \nPåmelding til post@askoynr.no innen 8. desember.
URL:https://www.askoynr.no/kalendar/askoy-naeringsrad-inviterer-til-lunsjmote-pa-askoy-videregaende-skole/
LOCATION:askøy videregående skole\, Søre Myrane 13\, askøy\, kleppestø\, 5300\, Norge
ORGANIZER;CN="ANR":MAILTO:post@askoynf.no
END:VEVENT
BEGIN:VEVENT
DTSTART;TZID=Europe/Oslo:20230830T190000
DTEND;TZID=Europe/Oslo:20230830T210000
DTSTAMP:20260424T012258
CREATED:20230812T112937Z
LAST-MODIFIED:20230822T084649Z
UID:892-1693422000-1693429200@www.askoynr.no
SUMMARY:Paneldebatt i Fargeriet i samarbeid med AV
DESCRIPTION:Askøy Næringsråd i samarbeid med Askøyværingen og Askøy24 inviterer til PARTILEDERDEBATT 30. AUGUST\, Fargeriet\, Strusshamn kl.19.00 – 21.00 Vi deler debatten i tre tema: KILDN – KLEPPESTØKAIEN – UTVIDELSE STOREBOTN Foran hvert tema starter vi med en duell på 5 minutter mellom to partier. Tema Kildn – SV og FRP Tema Kleppestø – AP og Høyre Tema Storebotn – Askøylisten og SP Det vil bli mulig å stille spørsmål fra salen. Debatten ledes av Tom – Stian Karlsen fra Askøyværingen og duellene ledes av Yngve Johnsen fra Askøy24 Dette vil du ikke gå glipp av ! Gratis Adgang – Åpen For Alle Har du ikke anledning til å oppleve dette i Fargeriet kan du følge med på sendingen som vil bli produsert av LEP Tekniske Tjenester\, og sendes på Askøy24 og Askøyværingen sine sider.
URL:https://www.askoynr.no/kalendar/paneldebatt-i-fargeriet-i-samarbeid-med-av/
LOCATION:Fargeriet\, Strusshamn
ORGANIZER;CN="ANR":MAILTO:post@askoynf.no
END:VEVENT
BEGIN:VEVENT
DTSTART;TZID=Europe/Oslo:20230615T080000
DTEND;TZID=Europe/Oslo:20230615T170000
DTSTAMP:20260424T012258
CREATED:20230117T114531Z
LAST-MODIFIED:20230117T114531Z
UID:743-1686816000-1686848400@www.askoynr.no
SUMMARY:Sommeravslutning
DESCRIPTION:Mer info. kommer!
URL:https://www.askoynr.no/kalendar/sommeravslutning/
ORGANIZER;CN="ANR":MAILTO:post@askoynf.no
END:VEVENT
BEGIN:VEVENT
DTSTART;TZID=Europe/Oslo:20230420T080000
DTEND;TZID=Europe/Oslo:20230420T100000
DTSTAMP:20260424T012258
CREATED:20230117T114435Z
LAST-MODIFIED:20230419T113545Z
UID:741-1681977600-1681984800@www.askoynr.no
SUMMARY:Frokostmøte ANR på Olsnes Gård
DESCRIPTION:· Om Olsnes Gård v/ Roald Helgesen \n· Presentasjon av nytt styre i ANR \n· Vurderer din bedrift å bli Miljøfyrtårn -sertifisert ? Kristina Christensen fra Internsikring AS informerer om hva som skal til. \nGratis for medlemmer av ANR
URL:https://www.askoynr.no/kalendar/frokostmote-anr-2/
LOCATION:Olsnes Gård\, Askveien 151\, Askøy\, Erdal\, 5306
ORGANIZER;CN="ANR":MAILTO:post@askoynf.no
END:VEVENT
BEGIN:VEVENT
DTSTART;TZID=Europe/Oslo:20230412T153000
DTEND;TZID=Europe/Oslo:20230412T173000
DTSTAMP:20260424T012258
CREATED:20230117T114337Z
LAST-MODIFIED:20230117T114337Z
UID:739-1681313400-1681320600@www.askoynr.no
SUMMARY:Styremøte ANR
DESCRIPTION:
URL:https://www.askoynr.no/kalendar/styremote-anr-3/
LOCATION:Z huset\, Storebotn 7\, Askøy\, Kleppestø\, 5309
ORGANIZER;CN="ANR":MAILTO:post@askoynf.no
END:VEVENT
BEGIN:VEVENT
DTSTART;TZID=Europe/Oslo:20230323T180000
DTEND;TZID=Europe/Oslo:20230323T200000
DTSTAMP:20260424T012258
CREATED:20230117T114243Z
LAST-MODIFIED:20230117T114243Z
UID:737-1679594400-1679601600@www.askoynr.no
SUMMARY:Årsmøte ANR
DESCRIPTION:Mer info. og rett tidspunkt kommer….
URL:https://www.askoynr.no/kalendar/arsmote-anr/
LOCATION:Z huset\, Storebotn 7\, Askøy\, Kleppestø\, 5309
ORGANIZER;CN="ANR":MAILTO:post@askoynf.no
END:VEVENT
BEGIN:VEVENT
DTSTART;TZID=Europe/Oslo:20230308T153000
DTEND;TZID=Europe/Oslo:20230308T173000
DTSTAMP:20260424T012258
CREATED:20230117T114112Z
LAST-MODIFIED:20230117T114112Z
UID:735-1678289400-1678296600@www.askoynr.no
SUMMARY:Styremøte ANR
DESCRIPTION:
URL:https://www.askoynr.no/kalendar/styremote-anr-2/
LOCATION:Z huset\, Storebotn 7\, Askøy\, Kleppestø\, 5309
ORGANIZER;CN="ANR":MAILTO:post@askoynf.no
END:VEVENT
BEGIN:VEVENT
DTSTART;TZID=Europe/Oslo:20230215T090000
DTEND;TZID=Europe/Oslo:20230215T130000
DTSTAMP:20260424T012258
CREATED:20230117T113947Z
LAST-MODIFIED:20230117T113947Z
UID:733-1676451600-1676466000@www.askoynr.no
SUMMARY:Gründerdag i samarbeid med Etablerersenteret
DESCRIPTION:
URL:https://www.askoynr.no/kalendar/grunderdag-i-samarbeid-med-etablerersenteret/
LOCATION:Z huset\, Storebotn 7\, Askøy\, Kleppestø\, 5309
ORGANIZER;CN="ANR":MAILTO:post@askoynf.no
END:VEVENT
BEGIN:VEVENT
DTSTART;TZID=Europe/Oslo:20230126T080000
DTEND;TZID=Europe/Oslo:20230126T100000
DTSTAMP:20260424T012258
CREATED:20230103T184159Z
LAST-MODIFIED:20230117T113610Z
UID:667-1674720000-1674727200@www.askoynr.no
SUMMARY:Frokostmøte ANR i samarbeid med NAV
DESCRIPTION:08.00 – Frokost fra Diggbar Askøy \n08.30 – Info fra Askøy Næringsråd v/ Svein Vikøren \n08.45 – Arbeidsmarkedet i 2023 forventninger og muligheter. \nNAV region Vest har sammen med Askøy Næringsråd og Vest næringsråd gjennomført en undersøkelse av bedriftenes forventninger til 2023. Vi har forsøkt å kartlegge rekrutteringsutfordringer. Vi har også spurt om bedriftenes muligheter og ønske om samarbeid med NAV om rekruttering og utvikling av kompetanse i egen bedrift. På frokostmøte 26. januar vil Inkluder- ingskontakt i NAV region Vest Ketil Skare legge frem resultat av undersøkelsen. Samtidig kikker vi på de ferskeste prognosene for arbeidsmarkedet i Vestland i 2023. 09.15 – Bedriftspresentasjon- 3 bedrifter presenterer sin virksomhet \n10.00 – tilbake på jobb. Vi serverer frokost så da må vi ha påmelding til post@askoynr.no innen 24. januar Gratis for medlemmer av AN
URL:https://www.askoynr.no/kalendar/frokostmote-anr/
LOCATION:Z huset\, Storebotn 7\, Askøy\, Kleppestø\, 5309
ORGANIZER;CN="ANR":MAILTO:post@askoynf.no
END:VEVENT
END:VCALENDAR