BEGIN:VCALENDAR
VERSION:2.0
PRODID:-//Askøy Næringsråd - ECPv6.15.20//NONSGML v1.0//EN
CALSCALE:GREGORIAN
METHOD:PUBLISH
X-WR-CALNAME:Askøy Næringsråd
X-ORIGINAL-URL:https://www.askoynr.no
X-WR-CALDESC:Events for Askøy Næringsråd
REFRESH-INTERVAL;VALUE=DURATION:PT1H
X-Robots-Tag:noindex
X-PUBLISHED-TTL:PT1H
BEGIN:VTIMEZONE
TZID:Europe/Oslo
BEGIN:DAYLIGHT
TZOFFSETFROM:+0100
TZOFFSETTO:+0200
TZNAME:CEST
DTSTART:20210328T010000
END:DAYLIGHT
BEGIN:STANDARD
TZOFFSETFROM:+0200
TZOFFSETTO:+0100
TZNAME:CET
DTSTART:20211031T010000
END:STANDARD
BEGIN:DAYLIGHT
TZOFFSETFROM:+0100
TZOFFSETTO:+0200
TZNAME:CEST
DTSTART:20220327T010000
END:DAYLIGHT
BEGIN:STANDARD
TZOFFSETFROM:+0200
TZOFFSETTO:+0100
TZNAME:CET
DTSTART:20221030T010000
END:STANDARD
BEGIN:DAYLIGHT
TZOFFSETFROM:+0100
TZOFFSETTO:+0200
TZNAME:CEST
DTSTART:20230326T010000
END:DAYLIGHT
BEGIN:STANDARD
TZOFFSETFROM:+0200
TZOFFSETTO:+0100
TZNAME:CET
DTSTART:20231029T010000
END:STANDARD
END:VTIMEZONE
BEGIN:VEVENT
DTSTART;TZID=Europe/Oslo:20221101T080000
DTEND;TZID=Europe/Oslo:20221101T110000
DTSTAMP:20260424T053152
CREATED:20221017T173556Z
LAST-MODIFIED:20221017T174207Z
UID:544-1667289600-1667300400@www.askoynr.no
SUMMARY:Bransjeseminar for Bygg- og anleggsbransjen
DESCRIPTION:BDO inviterer til bransjeseminar for å dele årets bransjeanalyse med selskaper som har behov for å øke egen innsikt om viktige bransjeforhold. Bygg- og anleggsbransjen er en av Norges største\, og det tar vi på alvor gjennom å bidra med databasert innsikt som er viktig for å få et godt beslutningsgrunnlag. Samtidig er analysen et godt verktøy for å se på trender og utvikling i bransjen. \n\nÅrets bransjeanalyse fokuserer på utvikling i vekst\, lønnsomhet og konkurranseforhold i ulike deler av verdikjeden i bransjen\, nasjonalt og regionalt. Vi trekker også fram de muligheter som bærekraftig utvikling gir for bransjen ­- nå og i framtiden. \nProgram:\nVelkommen\nCharlotte Bårdsen\, Partner/revisor\, BDO \nBDOs bransjeanalyse for Bygg- og anleggsbransjen\nThomas Lidsheim\, Partner\, BDO \nBærekraftige løsninger i verdikjeden\nBjarne Ulvestad\, Adm. direktør\, ØyVAR \nSparebanken Vest- Bærekraftlinket finansiering\nÅsne Ådland Dale\, Head of CsR \nSeminaret er gratis. \nLett frokost fra kl 08:00.  Påmeldingsfrist fredag 28. oktober \n\nHer finner du mer info om program og påmelding: www.bdo.no/nb-no/seminarer/20221101brg
URL:https://www.askoynr.no/kalendar/bransjeseminar-for-bygg-og-anleggsbransjen/
LOCATION:BDO Bergen\, Inger Bang Lunds vei 4\, Bergen\, 5059\, Norge
ORGANIZER;CN="BDO Bergen":MAILTO:alexander.amundsen@bdo.no
END:VEVENT
END:VCALENDAR