BEGIN:VCALENDAR
VERSION:2.0
PRODID:-//Askøy Næringsråd - ECPv6.15.20//NONSGML v1.0//EN
CALSCALE:GREGORIAN
METHOD:PUBLISH
X-WR-CALNAME:Askøy Næringsråd
X-ORIGINAL-URL:https://www.askoynr.no
X-WR-CALDESC:Events for Askøy Næringsråd
REFRESH-INTERVAL;VALUE=DURATION:PT1H
X-Robots-Tag:noindex
X-PUBLISHED-TTL:PT1H
BEGIN:VTIMEZONE
TZID:Europe/Oslo
BEGIN:DAYLIGHT
TZOFFSETFROM:+0100
TZOFFSETTO:+0200
TZNAME:CEST
DTSTART:20220327T010000
END:DAYLIGHT
BEGIN:STANDARD
TZOFFSETFROM:+0200
TZOFFSETTO:+0100
TZNAME:CET
DTSTART:20221030T010000
END:STANDARD
BEGIN:DAYLIGHT
TZOFFSETFROM:+0100
TZOFFSETTO:+0200
TZNAME:CEST
DTSTART:20230326T010000
END:DAYLIGHT
BEGIN:STANDARD
TZOFFSETFROM:+0200
TZOFFSETTO:+0100
TZNAME:CET
DTSTART:20231029T010000
END:STANDARD
BEGIN:DAYLIGHT
TZOFFSETFROM:+0100
TZOFFSETTO:+0200
TZNAME:CEST
DTSTART:20240331T010000
END:DAYLIGHT
BEGIN:STANDARD
TZOFFSETFROM:+0200
TZOFFSETTO:+0100
TZNAME:CET
DTSTART:20241027T010000
END:STANDARD
BEGIN:DAYLIGHT
TZOFFSETFROM:+0100
TZOFFSETTO:+0200
TZNAME:CEST
DTSTART:20250330T010000
END:DAYLIGHT
BEGIN:STANDARD
TZOFFSETFROM:+0200
TZOFFSETTO:+0100
TZNAME:CET
DTSTART:20251026T010000
END:STANDARD
BEGIN:DAYLIGHT
TZOFFSETFROM:+0100
TZOFFSETTO:+0200
TZNAME:CEST
DTSTART:20260329T010000
END:DAYLIGHT
BEGIN:STANDARD
TZOFFSETFROM:+0200
TZOFFSETTO:+0100
TZNAME:CET
DTSTART:20261025T010000
END:STANDARD
END:VTIMEZONE
BEGIN:VEVENT
DTSTART;TZID=Europe/Oslo:20250305T113000
DTEND;TZID=Europe/Oslo:20250305T140000
DTSTAMP:20260424T001327
CREATED:20250122T133349Z
LAST-MODIFIED:20250124T173857Z
UID:2674-1741174200-1741183200@www.askoynr.no
SUMMARY:Lunsjmingel på Biologen
DESCRIPTION:Lunsjmingel på Biologen på Herdla 05.03 2025  11.30-1400 – Visningstur på Biologen kl 14. 00 -15.00 \n  \nPROGRAM: \nLunsj kl 11.30 -12.00 \nDestinasjon Fløyen – Anita Nybø. Adm.dir \nFra utsikt til innsikt – gjennom målrettet arbeid\, utvikling og skaperglede har organisasjonen gått fra å være 20 til 90 faste ansatte. I tillegg sysselsettes 120 studenter rundt om på destinasjonen\, hele året. Hovedoppgaven har vert å skape arbeidsplasser\, og en destinasjon du ønsker å komme tilbake til. \nMingel \nByfjordfestivalen – Kultur og turistdestinasjon – Geir Carlsen Daglig leder Byfjordfjordfestivalen A/S \nHerdla Golf  –  En turistattraksjon for Askøy – Atle Færevåg Daglig leder Herdla Golf \nMingel \nSlik Lykkes Askøy med Reiseliv – Anders Nyland  Reiselivsdir. Visit Bergen \nHva er trendene ? Hvilke utfordringer har reiselivet på Vestlandet og hvordan kan Askøy lykkes med en reiselivssatsing ? \n  \nPanel – diskusjon – spørsmål fra salen \nVi trekker et festivalpass til Byfjordfestivalen blant deltagerne \n  \nVisningstur rundt på Biologen kl 14.00 \nPåmelding: post@askoynr.no
URL:https://www.askoynr.no/kalendar/lunsjmingel-pa-biologen/
LOCATION:Biologen Hotel\, Laxeneset\, 5315 Herdla\, Norway
END:VEVENT
BEGIN:VEVENT
DTSTART;TZID=Europe/Oslo:20230921T180000
DTEND;TZID=Europe/Oslo:20230921T210000
DTSTAMP:20260424T001327
CREATED:20230812T113654Z
LAST-MODIFIED:20230812T113654Z
UID:900-1695319200-1695330000@www.askoynr.no
SUMMARY:Investordag på Biologen
DESCRIPTION:Investordag på Biologen
URL:https://www.askoynr.no/kalendar/investordag-pa-biologen/
LOCATION:Biologen Hotel\, Laxeneset\, 5315 Herdla\, Norway
END:VEVENT
END:VCALENDAR