BEGIN:VCALENDAR
VERSION:2.0
PRODID:-//Askøy Næringsråd - ECPv6.15.20//NONSGML v1.0//EN
CALSCALE:GREGORIAN
METHOD:PUBLISH
X-ORIGINAL-URL:https://www.askoynr.no
X-WR-CALDESC:Events for Askøy Næringsråd
REFRESH-INTERVAL;VALUE=DURATION:PT1H
X-Robots-Tag:noindex
X-PUBLISHED-TTL:PT1H
BEGIN:VTIMEZONE
TZID:Europe/Oslo
BEGIN:DAYLIGHT
TZOFFSETFROM:+0100
TZOFFSETTO:+0200
TZNAME:CEST
DTSTART:20210328T010000
END:DAYLIGHT
BEGIN:STANDARD
TZOFFSETFROM:+0200
TZOFFSETTO:+0100
TZNAME:CET
DTSTART:20211031T010000
END:STANDARD
BEGIN:DAYLIGHT
TZOFFSETFROM:+0100
TZOFFSETTO:+0200
TZNAME:CEST
DTSTART:20220327T010000
END:DAYLIGHT
BEGIN:STANDARD
TZOFFSETFROM:+0200
TZOFFSETTO:+0100
TZNAME:CET
DTSTART:20221030T010000
END:STANDARD
BEGIN:DAYLIGHT
TZOFFSETFROM:+0100
TZOFFSETTO:+0200
TZNAME:CEST
DTSTART:20230326T010000
END:DAYLIGHT
BEGIN:STANDARD
TZOFFSETFROM:+0200
TZOFFSETTO:+0100
TZNAME:CET
DTSTART:20231029T010000
END:STANDARD
BEGIN:DAYLIGHT
TZOFFSETFROM:+0100
TZOFFSETTO:+0200
TZNAME:CEST
DTSTART:20240331T010000
END:DAYLIGHT
BEGIN:STANDARD
TZOFFSETFROM:+0200
TZOFFSETTO:+0100
TZNAME:CET
DTSTART:20241027T010000
END:STANDARD
BEGIN:DAYLIGHT
TZOFFSETFROM:+0100
TZOFFSETTO:+0200
TZNAME:CEST
DTSTART:20250330T010000
END:DAYLIGHT
BEGIN:STANDARD
TZOFFSETFROM:+0200
TZOFFSETTO:+0100
TZNAME:CET
DTSTART:20251026T010000
END:STANDARD
BEGIN:DAYLIGHT
TZOFFSETFROM:+0100
TZOFFSETTO:+0200
TZNAME:CEST
DTSTART:20260329T010000
END:DAYLIGHT
BEGIN:STANDARD
TZOFFSETFROM:+0200
TZOFFSETTO:+0100
TZNAME:CET
DTSTART:20261025T010000
END:STANDARD
END:VTIMEZONE
BEGIN:VEVENT
DTSTART;TZID=Europe/Oslo:20250205T080000
DTEND;TZID=Europe/Oslo:20250205T100000
DTSTAMP:20260424T053245
CREATED:20241209T121000Z
LAST-MODIFIED:20250110T095418Z
UID:2587-1738742400-1738749600@www.askoynr.no
SUMMARY:Frokostmingel hos FRAMO
DESCRIPTION:Frokostmingel hos Framo Florvågvegen 39 NO-5329 FLORVÅG Norway. \n05.02 2025 kl. 0800 – 10.00 Med frokost og mingel fra kl 0800-0830 \nHvordan fremme bærkraftig vekst havbruksnæring !  \nFramo satser stort på bærekraftig havbruksnæring. \nKom og hør Terje Ljones som er direktør i Framo Aquaculture fortelle om hvilke typer anlegg som vil være attraktive i fremtiden for å sikre bærekraftig havbruk\, og fremme veksten i havbruksnæringen. \nHva kan dette bety for næringslivet på Askøy ? \nBergen Tankers med storkontrakt !  \nDen 14. november 2024 ble en stor milepæl nådd i Askøyfirmaet Bergen Tankers AS. 2 byggekontrakter ble effektive. En betydelig utvidelse av Bergen Tankers ble et faktum. \nBergen Tankers AS og Equinor ASA viderefører sitt gode samarbeid\, ved å inngå langsiktig leieavtale for begge de to nye skipene som bygges. \nKom og hør hva Kjell Olav Haugland forteller om veksten\, og hva dette betyr for selskapet og for næringslivet på Askøy. \n  \nAskøykonferansen 2025 med tema «Folkene på jobben» og Årsfest/julebord 21. November 2025. \n  \nKom og hør næringslos Frode Hetlevik – Askøy Næringsråd fortelle om innholdet og temaet for konferansen. \nDet blir omvisning i Framo sine produksjonshaller for de som ønsker det fra kl. 10.00 til 11.00 \n  \nPåmelding: https://forms.office.com/e/61pNzT29w3 \n  \n 
URL:https://www.askoynr.no/kalendar/frokostmingel-hos-framo/
LOCATION:Framo\, Florvågvegen 39\, askøy\, Florvåg\, 5329\, Norway
END:VEVENT
BEGIN:VEVENT
DTSTART;TZID=Europe/Oslo:20221027T090000
DTEND;TZID=Europe/Oslo:20221027T110000
DTSTAMP:20260424T053245
CREATED:20220920T154228Z
LAST-MODIFIED:20221011T142916Z
UID:436-1666861200-1666868400@www.askoynr.no
SUMMARY:Frokostmøte hos Framo
DESCRIPTION:I 2015 ble Framo en Askøy-bedrift\, da pumpeleverandøren flyttet hovedkontor\, service- og verkstedavdeling inn i nye bygg på Florvåg. Herfra kontrollerer industribedriften all salgsvirksomhet og serviceaktivitet. Med dypvannskai rett utenfor produksjonshallen\, kan kundene komme rett inn for service og deler. \nBli med inn i lokalene hos Framo og hør mer om:\n– bedriftens aktivitet på Askøy\, samt om fabrikkene rundt Bergen og satelittkontorene i verden\n– Hvordan Framo lokalt jobber globalt\n– Driften i dag\, ansatte og rekruttering\n– Markedene industriaktøren opererer i og hvordan Framo ruster seg for fremtiden \nPraktiske opplysninger \n\nParkering utenfor hovedinngangen til Framo\nRegistrering\, mingling og enkel servering fra kl. 08.00 – 08.30\nMøtet er gratis\, men krever påmelding innen 24. oktober via link https://forms.office.com/r/6e5fLtmn2g\nVelkommen til medlemsmøte hos Framo.
URL:https://www.askoynr.no/kalendar/frokostmote-5/
LOCATION:Framo\, Florvågvegen 39\, askøy\, Florvåg\, 5329\, Norway
END:VEVENT
END:VCALENDAR